dset ^sinlev%y2.dat
dtype grib
options yrev template
index ^sinlev.idx
undef -9.99E+33
title 10m Wind, 2m Temperatures, total Cloud, total Precipitation, Evaporation from ERA
xdef 144 linear 0 2.5
ydef 73 linear -90 2.5
zdef 1 levels 1013
tdef 5479 linear 12Z01jan79 24hr
vars 7
TCC 0 164,1,0 Total Cloud Cover [0-1]
U10 0 165,1,0 10 metre U wind component [m/s]
V10 0 166,1,0 10 metre V wind component [m/s]
T2 0 167,1,0 2 metre Temperature [K]
D2 0 168,1,0 2 metre Dewpoint Temperature [K]
E 0 182,1,0 Evaporation [mm/day]
TP 0 228,1,0 Total Precipitation [mm/day]
endvars
